BEGIN:VCALENDAR
VERSION:2.0
PRODID:-//SWaCS - ECPv6.15.20//NONSGML v1.0//EN
CALSCALE:GREGORIAN
METHOD:PUBLISH
X-ORIGINAL-URL:https://swacs.co.uk
X-WR-CALDESC:Events for SWaCS
REFRESH-INTERVAL;VALUE=DURATION:PT1H
X-Robots-Tag:noindex
X-PUBLISHED-TTL:PT1H
BEGIN:VTIMEZONE
TZID:Europe/London
BEGIN:DAYLIGHT
TZOFFSETFROM:+0000
TZOFFSETTO:+0100
TZNAME:BST
DTSTART:20230326T010000
END:DAYLIGHT
BEGIN:STANDARD
TZOFFSETFROM:+0100
TZOFFSETTO:+0000
TZNAME:GMT
DTSTART:20231029T010000
END:STANDARD
BEGIN:DAYLIGHT
TZOFFSETFROM:+0000
TZOFFSETTO:+0100
TZNAME:BST
DTSTART:20240331T010000
END:DAYLIGHT
BEGIN:STANDARD
TZOFFSETFROM:+0100
TZOFFSETTO:+0000
TZNAME:GMT
DTSTART:20241027T010000
END:STANDARD
BEGIN:DAYLIGHT
TZOFFSETFROM:+0000
TZOFFSETTO:+0100
TZNAME:BST
DTSTART:20250330T010000
END:DAYLIGHT
BEGIN:STANDARD
TZOFFSETFROM:+0100
TZOFFSETTO:+0000
TZNAME:GMT
DTSTART:20251026T010000
END:STANDARD
END:VTIMEZONE
BEGIN:VEVENT
DTSTART;TZID=Europe/London:20240601T100000
DTEND;TZID=Europe/London:20240601T120000
DTSTAMP:20260421T213743
CREATED:20240406T122913Z
LAST-MODIFIED:20240406T125546Z
UID:554-1717236000-1717243200@swacs.co.uk
SUMMARY:Meon Valley Repair Cafe
DESCRIPTION:What do you do with a broken toaster? Or with a bike when the wheel runs out of true? Or with a sweater full of moth holes? \nVarious volunteer repair experts will be available to help make all possible repairs free of charge. \nTools and materials will also be on hand. People visiting the Repair Café will bring along their broken items from home. Toasters\, lamps\, hair dryers\, clothes\, bikes\, toys\, crockery… anything that is broken is welcome and can more than likely be repaired. The Repair Café specialists almost always have the know-how.
URL:https://swacs.co.uk/event/meon-valley-repair-cafe
LOCATION:Waltham Chase Methodist Church\, Curdridge Ln\, Waltham Chase\, Southampton\, Hampshire\, SO32 2LD\, United Kingdom
CATEGORIES:Bike Repair
ATTACH;FMTTYPE=image/png:https://swacs.co.uk/wp-content/uploads/2024/04/repair-cafe-logo.png
ORGANIZER;CN="Meon Valley Repair Cafe":MAILTO:admin@meonvalleyrepaircafe.co.uk
END:VEVENT
BEGIN:VEVENT
DTSTART;TZID=Europe/London:20240511T093000
DTEND;TZID=Europe/London:20240511T110000
DTSTAMP:20260421T213743
CREATED:20240417T142842Z
LAST-MODIFIED:20241129T164734Z
UID:662-1715419800-1715425200@swacs.co.uk
SUMMARY:Rubbish Walk Litter Pick
DESCRIPTION:Join us for an amble\, a chat and the chance to show Waltham Chase a little love while sprucing up the roads.
URL:https://swacs.co.uk/event/rubbish-walk-litter-pick
LOCATION:Waltham Chase Village Hall\, Waltham Chase Village Hall\, Winchester Rd\, Waltham Chase\, Southampton\, Hampshire\, SO32 2LX\, United Kingdom
CATEGORIES:Litter Pick
ATTACH;FMTTYPE=image/png:https://swacs.co.uk/wp-content/uploads/2024/03/litterpickwide.png
END:VEVENT
BEGIN:VEVENT
DTSTART;TZID=Europe/London:20240511T091500
DTEND;TZID=Europe/London:20240511T104000
DTSTAMP:20260421T213743
CREATED:20240507T093810Z
LAST-MODIFIED:20241111T203533Z
UID:712-1715418900-1715424000@swacs.co.uk
SUMMARY:Women's Bike Ride
DESCRIPTION:Our local villages have above the national average carbon footprints\, and the second biggest producer of domestic greenhouse gases per person is transport. \nThis free event is organised by SWaCS and Lets Ride as part of a focus on sustainable transport.  It will be an easy going route around Swanmore\, Waltham Chase and Shirrell Heath. \nThere are a limited number of spaces on this event\, so please ensure you book in advance. \n 
URL:https://swacs.co.uk/event/womens-bike-ride
LOCATION:Swanmore Primary School Car Park (opposite Barnaby’s)\, Church Rd\, Swanmore\, Southampton\, Hampshire\, SO32 2PA\, United Kingdom
ATTACH;FMTTYPE=image/jpeg:https://swacs.co.uk/wp-content/uploads/2024/05/cycle1.jpg
END:VEVENT
BEGIN:VEVENT
DTSTART;TZID=Europe/London:20240504T100000
DTEND;TZID=Europe/London:20240504T120000
DTSTAMP:20260421T213743
CREATED:20240406T123431Z
LAST-MODIFIED:20240406T125747Z
UID:557-1714816800-1714824000@swacs.co.uk
SUMMARY:Meon Valley Repair Cafe
DESCRIPTION:What do you do with a broken toaster? Or with a bike when the wheel runs out of true? Or with a sweater full of moth holes? \nVarious volunteer repair experts will be available to help make all possible repairs free of charge. \nTools and materials will also be on hand. People visiting the Repair Café will bring along their broken items from home. Toasters\, lamps\, hair dryers\, clothes\, bikes\, toys\, crockery… anything that is broken is welcome and can more than likely be repaired. The Repair Café specialists almost always have the know-how.
URL:https://swacs.co.uk/event/meon-valley-repair-cafe-2
LOCATION:Waltham Chase Methodist Church\, Curdridge Ln\, Waltham Chase\, Southampton\, Hampshire\, SO32 2LD\, United Kingdom
ATTACH;FMTTYPE=image/png:https://swacs.co.uk/wp-content/uploads/2024/04/repair-cafe-logo.png
ORGANIZER;CN="Meon Valley Repair Cafe":MAILTO:admin@meonvalleyrepaircafe.co.uk
END:VEVENT
BEGIN:VEVENT
DTSTART;TZID=Europe/London:20240406T100000
DTEND;TZID=Europe/London:20240406T233000
DTSTAMP:20260421T213743
CREATED:20240319T145258Z
LAST-MODIFIED:20240406T130525Z
UID:136-1712397600-1712446200@swacs.co.uk
SUMMARY:Cycle Repair Cafe
DESCRIPTION:As transport is the second biggest cause of carbon pollution in our villages\, we are teaming up with the Meon Valley Repair Café on Saturday\, April 6th to provide FREE cycle checks and minor repairs. \nIt’s to prompt a conversation around the way we travel\, usually four wheels\, and to focus on the benefits of two wheels for getting around. \nJoining us to do the checks are qualified cycle technicians RideRide from Southampton. \nWe will also be looking at ways to recycle old\, outgrown or unwanted bikes and there will be the opportunity to sign up for a guided cycle group to be led by a British Cycling guide. \nRefreshments will be available too. \nphoto credit: Meon Valley Repair Cafe
URL:https://swacs.co.uk/event/cycle-repair-cafe
LOCATION:Waltham Chase Methodist Church\, Curdridge Ln\, Waltham Chase\, Southampton\, Hampshire\, SO32 2LD\, United Kingdom
CATEGORIES:Bike Repair
ATTACH;FMTTYPE=image/png:https://swacs.co.uk/wp-content/uploads/2024/03/Cycle-repair-cafe.png
END:VEVENT
BEGIN:VEVENT
DTSTART;TZID=Europe/London:20240323T113000
DTEND;TZID=Europe/London:20240323T160000
DTSTAMP:20260421T213743
CREATED:20240319T135011Z
LAST-MODIFIED:20240319T143108Z
UID:88-1711193400-1711209600@swacs.co.uk
SUMMARY:Eco Fair Bishops Waltham
DESCRIPTION:Join us for 2024 Bishop’s Waltham Eco Fair at Jubilee Hall in Bishop’s Waltham. \nPop down to find out how you can make small changes to live more sustainably. \nThere will be plenty on offer\, from advice stands\, to talks and activities for the kids. \nPlus\, Roots Street Food will be joining us with a selection of mouth-watering food to keep you sustained throughout the event. \n 
URL:https://swacs.co.uk/event/repair-cycle-cafe
LOCATION:Jubilee Hall\, Little Shore Lane\, Bishop's Waltham\, Southampton\, Hampshire\, SO32 1ED\, United Kingdom
ATTACH;FMTTYPE=image/png:https://swacs.co.uk/wp-content/uploads/2024/03/ecofair.png
ORGANIZER;CN="Sustainable Bishops Waltham":MAILTO:sustainablebishopswaltham@gmail.com
END:VEVENT
BEGIN:VEVENT
DTSTART;TZID=Europe/London:20240224T090000
DTEND;TZID=Europe/London:20240224T120000
DTSTAMP:20260421T213743
CREATED:20240319T150323Z
LAST-MODIFIED:20240326T093636Z
UID:148-1708765200-1708776000@swacs.co.uk
SUMMARY:Waltham Chase litter pick
DESCRIPTION:Our first ‘Rubbish Walk’ in February 2024 starts and ends at Waltham Chase Village Hall. Bin bags\, litter pickers and hi-vis tabards will be provided. \nSo why litter picking? \nAll the litter we gather prevents waste clogging up the environment or degrading and causing harm. It’s a great way to meet up with others in the community and take part in a little gentle exercise while giving back to the village. \nWe aim to do three or four sessions a year\, any regular litter pickers in the village are very welcome to join us\, as are newcomers. \nContact us to get notified of the next event. \n 
URL:https://swacs.co.uk/event/waltham-chase-litter-pick
LOCATION:Waltham Chase Village Hall\, Waltham Chase Village Hall\, Winchester Rd\, Waltham Chase\, Southampton\, Hampshire\, SO32 2LX\, United Kingdom
CATEGORIES:Litter Pick
ATTACH;FMTTYPE=image/png:https://swacs.co.uk/wp-content/uploads/2024/03/litterpickwide.png
END:VEVENT
END:VCALENDAR