BEGIN:VCALENDAR
VERSION:2.0
PRODID:-//SWaCS - ECPv6.15.20//NONSGML v1.0//EN
CALSCALE:GREGORIAN
METHOD:PUBLISH
X-ORIGINAL-URL:https://swacs.co.uk
X-WR-CALDESC:Events for SWaCS
REFRESH-INTERVAL;VALUE=DURATION:PT1H
X-Robots-Tag:noindex
X-PUBLISHED-TTL:PT1H
BEGIN:VTIMEZONE
TZID:Europe/London
BEGIN:DAYLIGHT
TZOFFSETFROM:+0000
TZOFFSETTO:+0100
TZNAME:BST
DTSTART:20230326T010000
END:DAYLIGHT
BEGIN:STANDARD
TZOFFSETFROM:+0100
TZOFFSETTO:+0000
TZNAME:GMT
DTSTART:20231029T010000
END:STANDARD
BEGIN:DAYLIGHT
TZOFFSETFROM:+0000
TZOFFSETTO:+0100
TZNAME:BST
DTSTART:20240331T010000
END:DAYLIGHT
BEGIN:STANDARD
TZOFFSETFROM:+0100
TZOFFSETTO:+0000
TZNAME:GMT
DTSTART:20241027T010000
END:STANDARD
BEGIN:DAYLIGHT
TZOFFSETFROM:+0000
TZOFFSETTO:+0100
TZNAME:BST
DTSTART:20250330T010000
END:DAYLIGHT
BEGIN:STANDARD
TZOFFSETFROM:+0100
TZOFFSETTO:+0000
TZNAME:GMT
DTSTART:20251026T010000
END:STANDARD
END:VTIMEZONE
BEGIN:VEVENT
DTSTART;VALUE=DATE:20240921
DTEND;VALUE=DATE:20240930
DTSTAMP:20260421T233142
CREATED:20240826T122800Z
LAST-MODIFIED:20240928T110647Z
UID:1061-1726876800-1727654399@swacs.co.uk
SUMMARY:Winchester Green Week
DESCRIPTION:  \nA week of events for everyone\, organised by local communities\, environmental groups\, educational institutions\, faith groups\, local authorities and businesses in the Winchester District. A sustainable future can be created by all of us growing greener together. \nView events \n 
URL:https://swacs.co.uk/event/winchester-green-week
LOCATION:Winchester District\, Winchester\, Hampshire\, United Kingdom
CATEGORIES:Front Page News
ATTACH;FMTTYPE=image/png:https://swacs.co.uk/wp-content/uploads/2024/08/Winchester-Geen-Week.png
END:VEVENT
BEGIN:VEVENT
DTSTART;TZID=Europe/London:20240914T140000
DTEND;TZID=Europe/London:20240914T170000
DTSTAMP:20260421T233142
CREATED:20240826T111015Z
LAST-MODIFIED:20240906T055320Z
UID:1041-1726322400-1726333200@swacs.co.uk
SUMMARY:Hambledon Greening Festival
DESCRIPTION:Stallholders this year including \n\nbiodiversity groups like Hampshire and Isle of Wight Wildlife Trust\, the National Trust and the Hampshire Bat group\nretrofit specialists such as the Sustainability Centre\, WinACC and Buildpass\nlocal food producers like Hampshire Market Garden\, Nature’s Nook refill shop and Toat’s Mylk.\n\nThere will be a yoga demonstration\, live music\, short talks on soil and birds as well as achieving net zero\, and many activities for children including face-painting\, nature trails and wood whittling! Something for everyone… \n  \nPhoto credit: portsmouth.anglican.org
URL:https://swacs.co.uk/event/hambledon-greening-festival
LOCATION:St Peter & St Paul’s Church Hambledon\, St Peter & St Paul’s Church\, Church Lane\, Hambledon\, Waterlooville\, Hampshire\, PO7 4RT\, United Kingdom
CATEGORIES:Front Page News
ATTACH;FMTTYPE=image/jpeg:https://swacs.co.uk/wp-content/uploads/2024/08/hgf.jpg
ORGANIZER;CN="Hambledon Greening":MAILTO:hambledongreeningcampaign.sec@gmail.com
END:VEVENT
BEGIN:VEVENT
DTSTART;TZID=Europe/London:20240905T150000
DTEND;TZID=Europe/London:20240905T180000
DTSTAMP:20260421T233142
CREATED:20240822T130259Z
LAST-MODIFIED:20241129T164915Z
UID:934-1725548400-1725559200@swacs.co.uk
SUMMARY:Get your bike security marked for FREE
DESCRIPTION:Bikes are a great form of sustainable transport\, now you can get your bike security marked for FREE! \nWinchester City Council have joined forces with Winchester Police to host a Bike Register event in Bishop’s Waltham. \nBring your bike to Jubilee Hall\, Shore Lane\, Bishops Waltham\, on Thursday 5 September between 3pm and 6pm. We’ll security mark it so you can register your details on the national police database. \nIt could mean you are reunited with your bike if it’s stolen. It’s also a great deterrent to thieves. \nFind out more about registering your bike at The National Cycle Database | BikeRegister. \nPhoto credit: Hampshire and Isle of Wight Constabulary website
URL:https://swacs.co.uk/event/get-your-bike-security-marked-for-free
LOCATION:Jubilee Hall\, Little Shore Lane\, Bishop's Waltham\, Southampton\, Hampshire\, SO32 1ED\, United Kingdom
CATEGORIES:Bike Repair,Front Page News
ATTACH;FMTTYPE=image/jpeg:https://swacs.co.uk/wp-content/uploads/2024/08/bike-register.jpg
ORGANIZER;CN="Winchester City Council":MAILTO:customerservice@winchester.gov.uk
END:VEVENT
END:VCALENDAR