BEGIN:VCALENDAR
VERSION:2.0
PRODID:-//SWaCS - ECPv6.15.20//NONSGML v1.0//EN
CALSCALE:GREGORIAN
METHOD:PUBLISH
X-WR-CALNAME:SWaCS
X-ORIGINAL-URL:https://swacs.co.uk
X-WR-CALDESC:Events for SWaCS
REFRESH-INTERVAL;VALUE=DURATION:PT1H
X-Robots-Tag:noindex
X-PUBLISHED-TTL:PT1H
BEGIN:VTIMEZONE
TZID:Europe/London
BEGIN:DAYLIGHT
TZOFFSETFROM:+0000
TZOFFSETTO:+0100
TZNAME:BST
DTSTART:20240331T010000
END:DAYLIGHT
BEGIN:STANDARD
TZOFFSETFROM:+0100
TZOFFSETTO:+0000
TZNAME:GMT
DTSTART:20241027T010000
END:STANDARD
BEGIN:DAYLIGHT
TZOFFSETFROM:+0000
TZOFFSETTO:+0100
TZNAME:BST
DTSTART:20250330T010000
END:DAYLIGHT
BEGIN:STANDARD
TZOFFSETFROM:+0100
TZOFFSETTO:+0000
TZNAME:GMT
DTSTART:20251026T010000
END:STANDARD
BEGIN:DAYLIGHT
TZOFFSETFROM:+0000
TZOFFSETTO:+0100
TZNAME:BST
DTSTART:20260329T010000
END:DAYLIGHT
BEGIN:STANDARD
TZOFFSETFROM:+0100
TZOFFSETTO:+0000
TZNAME:GMT
DTSTART:20261025T010000
END:STANDARD
END:VTIMEZONE
BEGIN:VEVENT
DTSTART;TZID=Europe/London:20250722T190000
DTEND;TZID=Europe/London:20250722T210000
DTSTAMP:20260421T215330
CREATED:20250819T130145Z
LAST-MODIFIED:20250819T131623Z
UID:2032-1753210800-1753218000@swacs.co.uk
SUMMARY:Chat Climate
DESCRIPTION:Wondering whether renewable energy is for you? Or what you can do to help wildlife? \nIf you’re interested in any aspect of caring for our environment join us at Chat Climate with the team from Sustainable Waltham Chase and Swanmore at The Hunters Inn pub on Tuesday\, July 22nd at 7pm.  \nLet us know what changes you’d like to make happen in your community and find out what’s already going on.
URL:https://swacs.co.uk/event/chat-climate-2
LOCATION:The Hunters Inn\, The Hunters Inn\, Cott St\, Swanmore\, Southampton\, Hampshire\, SO32 2PZ\, United Kingdom
CATEGORIES:Chat Climate
ATTACH;FMTTYPE=image/jpeg:https://swacs.co.uk/wp-content/uploads/2025/03/chatclimate3-2.jpg
END:VEVENT
END:VCALENDAR